BEGIN:VCALENDAR
VERSION:2.0
PRODID:-//Neurg Kreisverband//Kreisverband Grüne Starnberg//DE
CALSCALE:GREGORIAN
METHOD:PUBLISH
X-WR-CALNAME:Kreisverband Grüne Starnberg Termine
BEGIN:VEVENT
UID:52720@gruene-starnberg.de
DTSTAMP:20260420T080627Z
SUMMARY:Verkehr in Gauting - geht es besser?
DTSTART:20260115T160000
DTEND:20260115T180000
DESCRIPTION:Die Grünen in Gauting laden alle Interessierten zu eine Begehung zu neuralgischen Punkten im Verkehr in Gauting ein. Gemeinsam mit Dr. Markus Büchler\, Sprecher für Mobilität der Landtagsgrünen\, sollen folgende Stationen vor Ort angeschaut werden:\n\n 	Bahnhof\n 	Kreuzung Ammerseestraße/Bahnhofstraße\n 	Schulstraße\n\nAnschließend werden die aufgenommen Eindrücke gemeinsam im bosco Kulturhaus bei einem gemeinsamen Ausklang gesammelt und diskutiert werden: Welche Möglichkeiten zur Verbesserung von Sicherheit und Aufenthaltsqualität sind möglich? Was bietet die neue StVO für Neuerungen? Wie können konkrete Änderungen angestoßen werden?
URL:https://gruene-starnberg.de/termin/verkehr-in-gauting-geht-es-besser/
END:VEVENT
END:VCALENDAR
