BEGIN:VCALENDAR
VERSION:2.0
PRODID:-//Neurg Kreisverband//Kreisverband Grüne Starnberg//DE
CALSCALE:GREGORIAN
METHOD:PUBLISH
X-WR-CALNAME:Kreisverband Grüne Starnberg Termine
BEGIN:VEVENT
UID:51324@gruene-starnberg.de
DTSTAMP:20260424T022329Z
SUMMARY:Starnberg OV Veranstaltung Bibliothek
DTSTART:20250825T110000
DTEND:20250825T130000
DESCRIPTION:Teset
URL:https://gruene-starnberg.de/termin/starnberg-ov-veranstaltung/
END:VEVENT
END:VCALENDAR
