BEGIN:VCALENDAR
VERSION:2.0
PRODID:-//Neurg Kreisverband//Kreisverband Grüne Starnberg//DE
CALSCALE:GREGORIAN
METHOD:PUBLISH
X-WR-CALNAME:Kreisverband Grüne Starnberg Termine
BEGIN:VEVENT
UID:52271@gruene-starnberg.de
DTSTAMP:20260421T100031Z
SUMMARY:Grüner Treff OV-Seefeld
DTSTART:20251204T190000
DTEND:20251204T220000
URL:https://gruene-starnberg.de/termin/gruener-treff-ov-seefeld/
END:VEVENT
END:VCALENDAR
