BEGIN:VCALENDAR
VERSION:2.0
PRODID:-//Neurg Kreisverband//Kreisverband Grüne Starnberg//DE
CALSCALE:GREGORIAN
METHOD:PUBLISH
X-WR-CALNAME:Kreisverband Grüne Starnberg Termine
BEGIN:VEVENT
UID:52118@gruene-starnberg.de
DTSTAMP:20260421T095830Z
SUMMARY:Glühweinwanderung Tutzing
DTSTART:20251211T180000
DTEND:20251211T210000
DESCRIPTION:GRÜNE Tutzing Stammtisch als Glühweinwanderung\nTreffpunkt vor dem Tutzinger Keller\, Schönmoosweg 5\, 82327 Tutzing
URL:https://gruene-starnberg.de/termin/gluehweinwanderung-tutzing/
END:VEVENT
END:VCALENDAR
